BEGIN:VCALENDAR
VERSION:2.0
PRODID:icalendar-ruby
CALSCALE:GREGORIAN
METHOD:PUBLISH
BEGIN:VEVENT
DTSTAMP:20260424T154631Z
UID:39-244167@clearviewumc.org
DTSTART:20260901T223000Z
DTEND:20260901T233000Z
CLASS:PUBLIC
CREATED:20260423T140241
DESCRIPTION:The Church Leadership Team (CLT) is the main decision-making bo
 dy of the church. It gathers every other month to guide the mission and mi
 nistry of our church. Grounded in our shared calling to Connect\, Grow\, a
 nd Serve\, these meetings are where vision is shaped\, decisions are made\
 , and the future of our church community is prayerfully considered. While 
 the CLT is a working leadership group\, all are invited to the meetings\, 
 and we certainly covet your prayers and support as we seek to follow where
  God is leading us together.
LAST-MODIFIED:20260423T140241
LOCATION:Care & Share Room
SUMMARY:Church Leadership Team (CLT) Meeting
URL;VALUE=URI:https://www.clearviewumc.org/events/church-leadership-team-cl
 t-meeting/2026-09-01
ATTACH;FILENAME=images.jpeg;FMTTYPE=image/jpeg:https://dq5pwpg1q8ru0.cloudf
 ront.net/2026/04/23/18/01/16/04c2f724-a60d-4a3d-9b8f-4c35a2e0402b/images.j
 peg
END:VEVENT
END:VCALENDAR
