BEGIN:VCALENDAR
VERSION:2.0
PRODID:icalendar-ruby
CALSCALE:GREGORIAN
METHOD:PUBLISH
BEGIN:VEVENT
DTSTAMP:20260425T154503Z
UID:23-245367@clearviewumc.org
DTSTART:20260927T144500Z
DTEND:20260927T160000Z
CLASS:PUBLIC
CREATED:20260425T103913
DESCRIPTION:Coffee &amp\; Conversation is a relaxed time to gather after wo
 rship and talk about the morning’s scripture together. With a cup of cof
 fee in hand\, we share thoughts\, ask questions\, and reflect on how the t
 ext connects with everyday life. It’s casual\, welcoming\, and open to e
 veryone—whether you enjoy speaking up or simply listening in.
LAST-MODIFIED:20260425T103913
LOCATION:Care & Share Room
SUMMARY:Coffee & Conversation
URL;VALUE=URI:https://www.clearviewumc.org/events/coffee-conversation/2026-
 09-27
ATTACH;FILENAME=coffeeconversation.jpg;FMTTYPE=image/jpeg:https://dq5pwpg1q
 8ru0.cloudfront.net/2026/03/08/11/47/38/d6de2803-5c69-4464-b633-1e9d57ab93
 38/coffeeconversation.jpg
END:VEVENT
END:VCALENDAR
