BEGIN:VCALENDAR
VERSION:2.0
PRODID:icalendar-ruby
CALSCALE:GREGORIAN
METHOD:PUBLISH
BEGIN:VEVENT
DTSTAMP:20260424T131332Z
UID:44-244174@clearviewumc.org
DTSTART:20260603T130000Z
DTEND:20260606T160000Z
CLASS:PUBLIC
CREATED:20260423T144249
DESCRIPTION:The Florida Conference of The United Methodist Church will gath
 er for its Annual Conference June 2–6\, 2026\, at Florida Southern Colle
 ge in Lakeland\, FL. This important yearly gathering brings together clerg
 y and laity from across the conference for worship\, learning\, and discer
 nment as we seek to follow God’s leading together.\nThroughout the week\
 , participants will engage in equipping workshops\, plenary sessions\, and
  times of worship—including Communion and celebrations of new and emergi
 ng generations in the church.   The Annual Conference is where key decisi
 ons are made\, leaders are commissioned\, and the shared mission of the ch
 urch is prayerfully shaped for the year ahead.\nLay Delegates for the Gulf
  Central District are still needed. Contact Pastor Erick if interested in 
 attending.
LAST-MODIFIED:20260423T144249
LOCATION:Florida Southern College - Lakeland\, FL
SUMMARY:Florida Annual Conference 2026
URL;VALUE=URI:https://www.clearviewumc.org/events/florida-annual-conference
 -2026/2026-06-03
ATTACH;FILENAME=faithrising-edit4.png;FMTTYPE=image/png:https://dq5pwpg1q8r
 u0.cloudfront.net/2026/04/23/18/42/48/77e19669-d056-4f23-9412-c23979250e4d
 /faithrising-edit4.png
END:VEVENT
END:VCALENDAR
