BEGIN:VCALENDAR
VERSION:2.0
PRODID:icalendar-ruby
CALSCALE:GREGORIAN
METHOD:PUBLISH
BEGIN:VEVENT
DTSTAMP:20260424T131316Z
UID:42-244172@clearviewumc.org
DTSTART:20260523T130000Z
DTEND:20260524T020000Z
CLASS:PUBLIC
CREATED:20260423T143525
DESCRIPTION:Oakhurst UMC is hosting the Basic Lay Servant Ministry Training
 . This training is for members seeking to serve the church through leaders
 hip\, caregiving\, and communication.\n\nKey details regarding Lay Servant
  Ministries:\n\n\nCost: $15 plus the cost of the book\n\n\nRequirements: T
 o become a Certified Lay Servant\, individuals must complete the Basic Cou
 rse and at least one Advanced Course.\n\n\nCertification: Certification re
 quires a recommendation from the local pastor/church council and approval 
 by the District Committee.\n\n\nRole: Certified Lay Servants lead in areas
  such as prayer\, worship\, study\, and caregiving\, as explained by Mount
 ain Sky UMC.\n\n\nCLICK HERE to register!\n\n
LAST-MODIFIED:20260423T143525
LOCATION:Oakhurst UMC
SUMMARY:Lay Servant Ministry Training
URL;VALUE=URI:https://www.clearviewumc.org/events/lay-servant-ministry-trai
 ning/2026-05-23
ATTACH;FILENAME=lay-servent-ministries.png;FMTTYPE=image/png:https://dq5pwp
 g1q8ru0.cloudfront.net/2026/04/23/18/35/25/acdba736-47b2-42b3-8b2a-7ee7d86
 b4c8a/lay-servent-ministries.png
END:VEVENT
END:VCALENDAR
