BEGIN:VCALENDAR
VERSION:2.0
PRODID:icalendar-ruby
CALSCALE:GREGORIAN
METHOD:PUBLISH
BEGIN:VEVENT
DTSTAMP:20260424T131450Z
UID:41-244171@clearviewumc.org
DTSTART:20260531T144500Z
DTEND:20260601T034500Z
CLASS:PUBLIC
CREATED:20260423T142516
DESCRIPTION:Please join us in wishing Pastor Ellie a blessed future and hea
 rtfelt thanks for her time with the South Pinellas Connection at a Farewe
 ll Reception following worship on May 31st in the Care &amp\; Share Room
  and East Wing. In usual Methodist fashion\, cake and punch will be serve
 d!\n 
LAST-MODIFIED:20260423T142516
LOCATION:East Wing/Care & Share Room
SUMMARY:Pastor Ellie's Farewell Reception
URL;VALUE=URI:https://www.clearviewumc.org/events/pastor-ellies-farewell-re
 ception/2026-05-31
ATTACH;FILENAME=Join-us-as-we-celebrate-and-honor-Pastor-Ellies-ministry-an
 d-we-send-her-off-to-Beth-United-Methodist-Church-with-blessings-and-praye
 rs.png;FMTTYPE=image/png:https://dq5pwpg1q8ru0.cloudfront.net/2026/04/23/1
 8/24/44/2824d496-8cfd-4de6-96c9-805406717b4c/Join-us-as-we-celebrate-and-h
 onor-Pastor-Ellies-ministry-and-we-send-her-off-to-Beth-United-Methodist-C
 hurch-with-blessings-and-prayers.png
END:VEVENT
END:VCALENDAR
