BEGIN:VCALENDAR
VERSION:2.0
PRODID:icalendar-ruby
CALSCALE:GREGORIAN
METHOD:PUBLISH
BEGIN:VEVENT
DTSTAMP:20260424T103949Z
UID:40-244169@clearviewumc.org
DTSTART;VALUE=DATE:20260426
DTEND;VALUE=DATE:20260531
CLASS:PUBLIC
CREATED:20260423T141338
DESCRIPTION:\nStaff Appreciation donation envelopes will be distributed for
  the next few Sundays for presentation on May 31st. Our staff and pastors
 ’ service supports and encourages our congregation to live out His purp
 ose and mission for God’s glory! Let us take this time to thank and app
 reciate those who faithfully serve in God’s vineyard and give their time
  and hearts for His Kingdom.\nYou can give in person\, by placing your gi
 ft in the offering plate on Sunday and marking your gift for Staff Appreci
 ation. \nYou can also give online by CLICKING HERE at selecting "Staff Ap
 preciation" from the drop-down list.\nLastly\, you can give by texting (72
 7) 513-5557 and including the $ amount and staff in the message\, e.g.\, 
 $50 staff.\n
LAST-MODIFIED:20260423T141338
LOCATION:
SUMMARY:Staff Appreciation Month
URL;VALUE=URI:https://www.clearviewumc.org/events/staff-appreciation-month/
 2026-04-26
ATTACH;FILENAME=Staff-Appreciation.png;FMTTYPE=image/png:https://dq5pwpg1q8
 ru0.cloudfront.net/2026/04/23/18/13/38/d5c71dc4-2321-43c9-a20b-1dcc5690f4e
 5/Staff-Appreciation.png
END:VEVENT
END:VCALENDAR
