BEGIN:VCALENDAR
VERSION:2.0
PRODID:icalendar-ruby
CALSCALE:GREGORIAN
METHOD:PUBLISH
BEGIN:VEVENT
DTSTAMP:20260424T131450Z
UID:43-244173@clearviewumc.org
DTSTART:20260502T120000Z
DTEND:20260502T140000Z
CLASS:PUBLIC
CREATED:20260423T143834
DESCRIPTION:All men are invited to gather for a time of good food\, meaning
 ful conversation\, and growing in faith together. The United Methodist Men
  meet regularly for breakfast and fellowship\, followed by a short meeting
  focused on supporting the mission and ministries of the church and servin
 g our community. Whether you’re new or have been attending for years\, t
 his is a welcoming space to connect\, build relationships\, and be encoura
 ged in your walk with Christ.
LAST-MODIFIED:20260423T143834
LOCATION:St. Luke's UMC
SUMMARY:United Methodist Men's Breakfast
URL;VALUE=URI:https://www.clearviewumc.org/events/united-methodist-mens-bre
 akfast/2026-05-02
ATTACH;FILENAME=UMM.jpeg;FMTTYPE=image/jpeg:https://dq5pwpg1q8ru0.cloudfron
 t.net/2026/04/23/18/38/33/0fcf9703-a779-49bd-a168-4137d90bdac4/UMM.jpeg
END:VEVENT
END:VCALENDAR
